BEGIN:VCALENDAR
VERSION:2.0
PRODID:-//Fizjomed Academy Szkolenia Osteopatia Logopedia
CALSCALE:GREGORIAN
METHOD:PUBLISH
X-WR-CALNAME:Fizjomed Academy Szkolenia Osteopatia Logopedia
X-ORIGINAL-URL:https://fizjomedacademy.pl/kursy/terapia-manualna-w-zaburzeniach-artykulacyjnych/
X-WR-CALDESC:Terapia manualna w zaburzeniach artykulacyjnych
BEGIN:VEVENT
DTSTART:
DTEND:
SUMMARY:Terapia manualna w zaburzeniach artykulacyjnych
DESCRIPTION:Poznaj znaczenie wywiadu, anatomii i terapii manualnej w pracy z pacjentami.
LOCATION:
END:VEVENT
END:VCALENDAR
