BEGIN:VCALENDAR
VERSION:2.0
PRODID:-//Fizjomed Academy Szkolenia Osteopatia Logopedia
CALSCALE:GREGORIAN
METHOD:PUBLISH
X-WR-CALNAME:Fizjomed Academy Szkolenia Osteopatia Logopedia
X-ORIGINAL-URL:https://fizjomedacademy.pl/kursy/kiedy-rosnie-brzuszek-rozwoj-ukladu-pokarmowego-z-perspektywy-pediatry-neurologopedy-i-osteopaty/
X-WR-CALDESC:Kiedy rośnie brzuszek: Rozwój układu pokarmowego z perspektywy pediatry, neurologopedy i osteopaty.
BEGIN:VEVENT
DTSTART:
DTEND:
SUMMARY:Kiedy rośnie brzuszek: Rozwój układu pokarmowego z perspektywy pediatry, neurologopedy i osteopaty.
DESCRIPTION:Rozwój układu pokarmowego z perspektywy pediatry, neurologopedy i osteopaty. Szkolenie poświęcone jest problemom zdrowia dzieci.
LOCATION:
END:VEVENT
END:VCALENDAR
