BEGIN:VCALENDAR
VERSION:2.0
PRODID:-//Fizjomed Academy Szkolenia Osteopatia Logopedia
CALSCALE:GREGORIAN
METHOD:PUBLISH
X-WR-CALNAME:Fizjomed Academy Szkolenia Osteopatia Logopedia
X-ORIGINAL-URL:https://fizjomedacademy.pl/kursy/wczesniak-od-narodzin-po-przedszkole-terapia-i-rozwoj-zmyslowy/
X-WR-CALDESC:Wcześniak: od narodzin po przedszkole &#8211; terapia i rozwój zmysłowy
BEGIN:VEVENT
DTSTART:
DTEND:
SUMMARY:Wcześniak: od narodzin po przedszkole &#8211; terapia i rozwój zmysłowy
DESCRIPTION:
LOCATION:
END:VEVENT
END:VCALENDAR
