BEGIN:VCALENDAR
VERSION:2.0
PRODID:-//Fizjomed Academy Szkolenia Osteopatia Logopedia
CALSCALE:GREGORIAN
METHOD:PUBLISH
X-WR-CALNAME:Fizjomed Academy Szkolenia Osteopatia Logopedia
X-ORIGINAL-URL:https://fizjomedacademy.pl/kursy/analiza-funkcji-przygotowanie-do-funkcji-poprzez-inne-funkcje/
X-WR-CALDESC:Analiza funkcji. Przygotowanie do funkcji poprzez inne funkcje
BEGIN:VEVENT
DTSTART:
DTEND:
SUMMARY:Analiza funkcji. Przygotowanie do funkcji poprzez inne funkcje
DESCRIPTION:Zaprojektowanie skutecznego planu leczenia dla osiągnięcia określonego celu funkcjonalnego
LOCATION:
END:VEVENT
END:VCALENDAR
